BEGIN:VCALENDAR
VERSION:2.0
PRODID:-//AKF Cartersville Martial Arts - ECPv6.11.2//NONSGML v1.0//EN
CALSCALE:GREGORIAN
METHOD:PUBLISH
X-WR-CALNAME:AKF Cartersville Martial Arts
X-ORIGINAL-URL:https://akfcartersville.com
X-WR-CALDESC:Events for AKF Cartersville Martial Arts
REFRESH-INTERVAL;VALUE=DURATION:PT1H
X-Robots-Tag:noindex
X-PUBLISHED-TTL:PT1H
BEGIN:VTIMEZONE
TZID:America/New_York
BEGIN:DAYLIGHT
TZOFFSETFROM:-0500
TZOFFSETTO:-0400
TZNAME:EDT
DTSTART:20240310T070000
END:DAYLIGHT
BEGIN:STANDARD
TZOFFSETFROM:-0400
TZOFFSETTO:-0500
TZNAME:EST
DTSTART:20241103T060000
END:STANDARD
END:VTIMEZONE
BEGIN:VEVENT
DTSTART;VALUE=DATE:20240907
DTEND;VALUE=DATE:20240908
DTSTAMP:20260424T215058
CREATED:20240518T145752Z
LAST-MODIFIED:20240518T145752Z
UID:2011-1725667200-1725753599@akfcartersville.com
SUMMARY:2024 Southeast Invitational Tournament
DESCRIPTION:Sparring\, forms\, weapons\, and the Junior Board Breaking Championship (10 & Under). More details coming soon.
URL:https://akfcartersville.com/event/2024-southeast-invitational-tournament/
LOCATION:Trinity United Methodist Church (Cartersville)\, 814 West Ave\, Cartersville\, GA\, 30120
END:VEVENT
BEGIN:VEVENT
DTSTART;TZID=America/New_York:20240907T090000
DTEND;TZID=America/New_York:20240907T100000
DTSTAMP:20260424T215058
CREATED:20240518T150903Z
LAST-MODIFIED:20240518T150916Z
UID:2016-1725699600-1725703200@akfcartersville.com
SUMMARY:Junior Board Breaking Championship
DESCRIPTION:Ages 4 to 10 \nMore info to come.
URL:https://akfcartersville.com/event/junior-board-breaking-seminar/
LOCATION:Trinity United Methodist Church (Cartersville)\, 814 West Ave\, Cartersville\, GA\, 30120
END:VEVENT
BEGIN:VEVENT
DTSTART;TZID=America/New_York:20240928T133000
DTEND;TZID=America/New_York:20240928T153000
DTSTAMP:20260424T215058
CREATED:20240125T232532Z
LAST-MODIFIED:20240125T232532Z
UID:1970-1727530200-1727537400@akfcartersville.com
SUMMARY:Color Belt Promotion
DESCRIPTION:
URL:https://akfcartersville.com/event/color-belt-promotion-16/
LOCATION:AKF Cartersville\, 449 E Main St\, Cartersville\, GA\, 30121\, United States
END:VEVENT
END:VCALENDAR